View In:
ArcGIS JavaScript
ArcGIS Online Map Viewer
ArcGIS Earth
Service Description: dtm_ck_2025_ML_WEL
Name: dtm_ck_2025_ML_WEL
Description:
Single Fused Map Cache: true
Tile Info:
- Height: 256
- Width: 256
- DPI: 96
-
Levels of Detail: 24
-
Level ID: 0
[ Start Tile, End Tile ]
- Resolution: 263278.3644161216
- Scale: 9.95067834013688E8
-
Level ID: 1
[ Start Tile, End Tile ]
- Resolution: 131639.1822080608
- Scale: 4.97533917006844E8
-
Level ID: 2
[ Start Tile, End Tile ]
- Resolution: 65819.5911040304
- Scale: 2.48766958503422E8
-
Level ID: 3
[ Start Tile, End Tile ]
- Resolution: 32909.7955520152
- Scale: 1.24383479251711E8
-
Level ID: 4
[ Start Tile, End Tile ]
- Resolution: 16454.8977760076
- Scale: 6.21917396258555E7
-
Level ID: 5
[ Start Tile, End Tile ]
- Resolution: 8227.4488880038
- Scale: 3.109586981292775E7
-
Level ID: 6
[ Start Tile, End Tile ]
- Resolution: 4113.7244440019
- Scale: 1.5547934906463875E7
-
Level ID: 7
[ Start Tile, End Tile ]
- Resolution: 2056.86222200095
- Scale: 7773967.453231937
-
Level ID: 8
[ Start Tile, End Tile ]
- Resolution: 1028.431111000475
- Scale: 3886983.7266159686
-
Level ID: 9
[ Start Tile, End Tile ]
- Resolution: 514.2155555002375
- Scale: 1943491.8633079843
-
Level ID: 10
[ Start Tile, End Tile ]
- Resolution: 257.10777775011877
- Scale: 971745.9316539922
-
Level ID: 11
[ Start Tile, End Tile ]
- Resolution: 128.55388887505939
- Scale: 485872.9658269961
-
Level ID: 12
[ Start Tile, End Tile ]
- Resolution: 64.27694443752969
- Scale: 242936.48291349804
-
Level ID: 13
[ Start Tile, End Tile ]
- Resolution: 32.138472218764846
- Scale: 121468.24145674902
-
Level ID: 14
[ Start Tile, End Tile ]
- Resolution: 16.069236109382423
- Scale: 60734.12072837451
-
Level ID: 15
[ Start Tile, End Tile ]
- Resolution: 8.034618054691212
- Scale: 30367.060364187255
-
Level ID: 16
[ Start Tile, End Tile ]
- Resolution: 4.017309027345606
- Scale: 15183.530182093627
-
Level ID: 17
[ Start Tile, End Tile ]
- Resolution: 2.008654513672803
- Scale: 7591.765091046814
-
Level ID: 18
[ Start Tile, End Tile ]
- Resolution: 1.0043272568364014
- Scale: 3795.882545523407
-
Level ID: 19
[ Start Tile, End Tile ]
- Resolution: 0.5021636284182007
- Scale: 1897.9412727617034
-
Level ID: 20
[ Start Tile, End Tile ]
- Resolution: 0.25108181420910036
- Scale: 948.9706363808517
-
Level ID: 21
[ Start Tile, End Tile ]
- Resolution: 0.12554090710455018
- Scale: 474.48531819042586
-
Level ID: 22
[ Start Tile, End Tile ]
- Resolution: 0.06277045355227509
- Scale: 237.24265909521293
-
Level ID: 23
[ Start Tile, End Tile ]
- Resolution: 0.031385226776137545
- Scale: 118.62132954760646
- Format: LERC
- Compression Quality: 0.0
- LERC Error: 0.05
- Origin: X: -3.369963064526357E7
Y: 3.366613058461971E7
- Spatial Reference: 102067
(5514)
LatestVCSWkid(0)
Storage Info:
- Storage Format: esriMapCacheStorageModeCompactV2
- Packet Size: 128
Extent:
XMin: -773125.0
YMin: -1186000.0
XMax: -767500.0
YMax: -1178000.0
Spatial Reference: 102067
(5514)
LatestVCSWkid(0)
Initial Extent:
XMin: -773125.0
YMin: -1186000.0
XMax: -767500.0
YMax: -1178000.0
Spatial Reference: 102067
(5514)
LatestVCSWkid(0)
Full Extent:
XMin: -773125.0
YMin: -1186000.0
XMax: -767500.0
YMax: -1178000.0
Spatial Reference: 102067
(5514)
LatestVCSWkid(0)
Pixel Size X: 0.5
Pixel Size Y: 0.5
Band Count: 1
Pixel Type: F32
RasterFunction Infos: {"rasterFunctionInfos": [{
"name": "None",
"description": "",
"help": ""
}]}
Mensuration Capabilities: Basic
Inspection Capabilities:
Has Histograms: true
Has Colormap: false
Has Multi Dimensions : false
Rendering Rule:
Min Scale: 9.95067834013688E8
Max Scale: 1897.9412727617034
Copyright Text:
Service Data Type: esriImageServiceDataTypeGeneric
Min Values: 467.2355041503906
Max Values: 831.9501342773438
Mean Values: 581.3471084239629
Standard Deviation Values: 57.988546811574835
Object ID Field:
Fields:
None
Default Mosaic Method: Center
Allowed Mosaic Methods:
SortField:
SortValue: null
Mosaic Operator: First
Default Compression Quality: 75
Default Resampling Method: Bilinear
Max Record Count: null
Max Image Height: 4100
Max Image Width: 15000
Max Download Image Count: null
Max Mosaic Image Count: null
Allow Raster Function: true
Allow Copy: true
Allow Analysis: true
Allow Compute TiePoints: false
Supports Statistics: false
Supports Advanced Queries: false
Use StandardizedQueries: true
Raster Type Infos:
Name: Raster Dataset
Description: Supports all ArcGIS Raster Datasets
Help:
Has Raster Attribute Table: false
Edit Fields Info: null
Ownership Based AccessControl For Rasters: null
Child Resources:
Info
Histograms
Statistics
Key Properties
Legend
Raster Function Infos
Supported Operations:
Export Image
Identify
Measure
Compute Histograms
Compute Statistics Histograms
Get Samples
Compute Class Statistics
Query Boundary
Compute Pixel Location
Compute Angles
Validate
Project