{
 "currentVersion": 11.5,
 "serviceDescription": "dtm_ck_2025_ML_WEL",
 "serviceItemId": "9269374fd2fd45cc8e693691f0a5c9d2",
 "name": "dtm_ck_2025_ML_WEL",
 "description": "",
 "extent": {
  "xmin": -773125,
  "ymin": -1186000,
  "xmax": -767500,
  "ymax": -1178000,
  "spatialReference": {
   "wkid": 102067,
   "latestWkid": 5514
  }
 },
 "initialExtent": {
  "xmin": -773125,
  "ymin": -1186000,
  "xmax": -767500,
  "ymax": -1178000,
  "spatialReference": {
   "wkid": 102067,
   "latestWkid": 5514
  }
 },
 "fullExtent": {
  "xmin": -773125,
  "ymin": -1186000,
  "xmax": -767500,
  "ymax": -1178000,
  "spatialReference": {
   "wkid": 102067,
   "latestWkid": 5514
  }
 },
 "sortableFields": "",
 "bandCount": 1,
 "pixelType": "F32",
 "minValues": [
  467.2355041503906
 ],
 "maxValues": [
  831.9501342773438
 ],
 "meanValues": [
  581.3471084239629
 ],
 "stdvValues": [
  57.988546811574835
 ],
 "serviceProperties": "Center<\/MosaicMethod>First<\/MosaicOperator>true<\/SortAscending><\/LockImageID><\/TileOrderField>0<\/TileOrderBase>0,000000<\/AvgImageSpacingX>0,000000<\/AvgImageSpacingY>0.0<\/ViewPointX>0.0<\/ViewPointY>0.0<\/ViewPointDefShiftX>0.0<\/ViewPointDefShiftY>None<\/CompressionMethod>75<\/CompressionQuality>0,100000<\/CompressionTolerance>Bilinear<\/SamplingMethod><\/ImageServiceProperties><\/ImageServer>",
 "allowedFields": "",
 "hasMultidimensions": false,
 "pixelSizeX": 0.5,
 "pixelSizeY": 0.5,
 "meanPixelSize": 0.5,
 "datasetFormat": "FGDBR",
 "uncompressedSize": 720000000,
 "blockWidth": 128,
 "blockHeight": 128,
 "compressionType": "LZ77",
 "bandNames": [
  "Band_1"
 ],
 "allowCopy": true,
 "allowAnalysis": true,
 "itemAccess": false,
 "inspectionCapabilities": "",
 "minPixelSize": 0.5021636284182007,
 "maxPixelSize": 263278.3644161216,
 "copyrightText": "",
 "serviceDataType": "esriImageServiceDataTypeGeneric",
 "serviceSourceType": "esriImageServiceSourceTypeDataset",
 "objectIdField": "",
 "fields": [],
 "capabilities": "Image,Metadata,Mensuration",
 "defaultMosaicMethod": "Center",
 "allowedMosaicMethods": "",
 "sortField": "",
 "sortValue": null,
 "sortAscending": true,
 "mosaicOperator": "First",
 "defaultCompressionQuality": 75,
 "defaultResamplingMethod": "Bilinear",
 "maxImageHeight": 4100,
 "maxImageWidth": 15000,
 "singleFusedMapCache": true,
 "tileInfo": {
  "rows": 256,
  "cols": 256,
  "dpi": 96,
  "format": "LERC",
  "compressionQuality": 0,
  "lercError": 0.05,
  "origin": {
   "x": -3.369963064526357E7,
   "y": 3.366613058461971E7
  },
  "spatialReference": {
   "wkid": 102067,
   "latestWkid": 5514
  },
  "lods": [
   {
    "level": 0,
    "resolution": 263278.3644161216,
    "scale": 9.95067834013688E8
   },
   {
    "level": 1,
    "resolution": 131639.1822080608,
    "scale": 4.97533917006844E8
   },
   {
    "level": 2,
    "resolution": 65819.5911040304,
    "scale": 2.48766958503422E8
   },
   {
    "level": 3,
    "resolution": 32909.7955520152,
    "scale": 1.24383479251711E8
   },
   {
    "level": 4,
    "resolution": 16454.8977760076,
    "scale": 6.21917396258555E7
   },
   {
    "level": 5,
    "resolution": 8227.4488880038,
    "scale": 3.109586981292775E7
   },
   {
    "level": 6,
    "resolution": 4113.7244440019,
    "scale": 1.5547934906463875E7
   },
   {
    "level": 7,
    "resolution": 2056.86222200095,
    "scale": 7773967.453231937
   },
   {
    "level": 8,
    "resolution": 1028.431111000475,
    "scale": 3886983.7266159686
   },
   {
    "level": 9,
    "resolution": 514.2155555002375,
    "scale": 1943491.8633079843
   },
   {
    "level": 10,
    "resolution": 257.10777775011877,
    "scale": 971745.9316539922
   },
   {
    "level": 11,
    "resolution": 128.55388887505939,
    "scale": 485872.9658269961
   },
   {
    "level": 12,
    "resolution": 64.27694443752969,
    "scale": 242936.48291349804
   },
   {
    "level": 13,
    "resolution": 32.138472218764846,
    "scale": 121468.24145674902
   },
   {
    "level": 14,
    "resolution": 16.069236109382423,
    "scale": 60734.12072837451
   },
   {
    "level": 15,
    "resolution": 8.034618054691212,
    "scale": 30367.060364187255
   },
   {
    "level": 16,
    "resolution": 4.017309027345606,
    "scale": 15183.530182093627
   },
   {
    "level": 17,
    "resolution": 2.008654513672803,
    "scale": 7591.765091046814
   },
   {
    "level": 18,
    "resolution": 1.0043272568364014,
    "scale": 3795.882545523407
   },
   {
    "level": 19,
    "resolution": 0.5021636284182007,
    "scale": 1897.9412727617034
   },
   {
    "level": 20,
    "resolution": 0.25108181420910036,
    "scale": 948.9706363808517
   },
   {
    "level": 21,
    "resolution": 0.12554090710455018,
    "scale": 474.48531819042586
   },
   {
    "level": 22,
    "resolution": 0.06277045355227509,
    "scale": 237.24265909521293
   },
   {
    "level": 23,
    "resolution": 0.031385226776137545,
    "scale": 118.62132954760646
   }
  ]
 },
 "storageInfo": {
  "storageFormat": "esriMapCacheStorageModeCompactV2",
  "packetSize": 128
 },
 "cacheType": "Elevation",
 "allowRasterFunction": true,
 "rasterFunctionInfos": [
  {
   "name": "None",
   "description": "",
   "help": ""
  }
 ],
 "rasterTypeInfos": [
  {
   "name": "Raster Dataset",
   "description": "Supports all ArcGIS Raster Datasets",
   "help": ""
  }
 ],
 "mensurationCapabilities": "Basic",
 "hasHistograms": true,
 "hasColormap": false,
 "hasRasterAttributeTable": false,
 "minScale": 9.95067834013688E8,
 "maxScale": 1897.9412727617034,
 "exportTilesAllowed": false,
 "supportsStatistics": false,
 "supportsAdvancedQueries": false,
 "editFieldsInfo": null,
 "ownershipBasedAccessControlForRasters": null,
 "allowComputeTiePoints": false,
 "useStandardizedQueries": true,
 "advancedQueryCapabilities": {
  "useStandardizedQueries": true,
  "supportsStatistics": false,
  "supportsOrderBy": false,
  "supportsDistinct": false,
  "supportsPagination": false
 },
 "spatialReference": {
  "wkid": 102067,
  "latestWkid": 5514
 }
}
