View In:
ArcGIS JavaScript
ArcGIS Online Map Viewer
ArcGIS Earth
Service Description: 3d/dem_jcku_01
Name: 3d/dem_jcku_01
Description:
Single Fused Map Cache: false
Extent:
XMin: -771000.1564535602
YMin: -1182000.1608783072
XMax: -768999.9564535603
YMax: -1179999.8608783071
Spatial Reference: 102067
(5514)
LatestVCSWkid(0)
Initial Extent:
XMin: -771000.1564535602
YMin: -1182000.1608783072
XMax: -768999.9564535603
YMax: -1179999.8608783071
Spatial Reference: 102067
(5514)
LatestVCSWkid(0)
Full Extent:
XMin: -771000.1564535602
YMin: -1182000.1608783072
XMax: -768999.9564535603
YMax: -1179999.8608783071
Spatial Reference: 102067
(5514)
LatestVCSWkid(0)
Pixel Size X: 0.09999999999999767
Pixel Size Y: 0.10000000000000232
Band Count: 1
Pixel Type: F32
RasterFunction Infos: {"rasterFunctionInfos": [{
"name": "None",
"description": "",
"help": ""
}]}
Mensuration Capabilities: Basic
Inspection Capabilities:
Has Histograms: true
Has Colormap: false
Has Multi Dimensions : false
Rendering Rule:
Min Scale: 3870720
Max Scale: 472.5
Min LOD: 0
Max LOD: 13
Copyright Text:
Service Data Type: esriImageServiceDataTypeGeneric
Min Values: 474.44900512695
Max Values: 626.71002197266
Mean Values: 555.22155125095
Standard Deviation Values: 31.72335457121
Object ID Field:
Fields:
None
Default Mosaic Method: Center
Allowed Mosaic Methods:
SortField:
SortValue: null
Mosaic Operator: First
Default Compression Quality: 75
Default Resampling Method: Bilinear
Max Record Count: null
Max Image Height: 4100
Max Image Width: 15000
Max Download Image Count: null
Max Mosaic Image Count: null
Allow Raster Function: true
Allow Copy: true
Allow Analysis: true
Allow Compute TiePoints: false
Supports Statistics: false
Supports Advanced Queries: false
Use StandardizedQueries: true
Raster Type Infos:
Name: Raster Dataset
Description: Supports all ArcGIS Raster Datasets
Help:
Has Raster Attribute Table: false
Edit Fields Info: null
Ownership Based AccessControl For Rasters: null
Child Resources:
Info
Histograms
Statistics
Key Properties
Legend
Raster Function Infos
Supported Operations:
Export Image
Identify
Measure
Compute Histograms
Compute Statistics Histograms
Get Samples
Compute Class Statistics
Query Boundary
Compute Pixel Location
Compute Angles
Validate
Project