View In:
ArcGIS JavaScript
ArcGIS Online Map Viewer
ArcGIS Earth
Service Description: 3d/DEM2023NovyDvur
Name: 3d/DEM2023NovyDvur
Description:
Single Fused Map Cache: false
Extent:
XMin: -770401.1564535602
YMin: -1181244.2108783072
XMax: -769748.6064535602
YMax: -1180352.9108783072
Spatial Reference: 102067
(5514)
LatestVCSWkid(0)
Initial Extent:
XMin: -770401.1564535602
YMin: -1181244.2108783072
XMax: -769748.6064535602
YMax: -1180352.9108783072
Spatial Reference: 102067
(5514)
LatestVCSWkid(0)
Full Extent:
XMin: -770401.1564535602
YMin: -1181244.2108783072
XMax: -769748.6064535602
YMax: -1180352.9108783072
Spatial Reference: 102067
(5514)
LatestVCSWkid(0)
Pixel Size X: 0.05000000000000357
Pixel Size Y: 0.05000000000000261
Band Count: 1
Pixel Type: F32
RasterFunction Infos: {"rasterFunctionInfos": [{
"name": "None",
"description": "",
"help": ""
}]}
Mensuration Capabilities: Basic
Inspection Capabilities:
Has Histograms: true
Has Colormap: false
Has Multi Dimensions : false
Rendering Rule:
Min Scale: 3870720
Max Scale: 472.5
Min LOD: 0
Max LOD: 13
Copyright Text:
Service Data Type: esriImageServiceDataTypeGeneric
Min Values: 541.25811767578
Max Values: 584.68811035156
Mean Values: 565.38340588333
Standard Deviation Values: 9.459322689866
Object ID Field:
Fields:
None
Default Mosaic Method: Center
Allowed Mosaic Methods:
SortField:
SortValue: null
Mosaic Operator: First
Default Compression Quality: 75
Default Resampling Method: Bilinear
Max Record Count: null
Max Image Height: 4100
Max Image Width: 15000
Max Download Image Count: null
Max Mosaic Image Count: null
Allow Raster Function: true
Allow Copy: true
Allow Analysis: true
Allow Compute TiePoints: false
Supports Statistics: false
Supports Advanced Queries: false
Use StandardizedQueries: true
Raster Type Infos:
Name: Raster Dataset
Description: Supports all ArcGIS Raster Datasets
Help:
Has Raster Attribute Table: false
Edit Fields Info: null
Ownership Based AccessControl For Rasters: null
Child Resources:
Info
Histograms
Statistics
Key Properties
Legend
Raster Function Infos
Supported Operations:
Export Image
Identify
Measure
Compute Histograms
Compute Statistics Histograms
Get Samples
Compute Class Statistics
Query Boundary
Compute Pixel Location
Compute Angles
Validate
Project