{
 "currentVersion": 11.5,
 "cimVersion": "3.5.0",
 "serviceDescription": "",
 "mapName": "CKPruzkumyLimity",
 "description": "",
 "copyrightText": "",
 "supportsDynamicLayers": true,
 "layers": [
  {
   "id": 0,
   "name": "limity_export_internet_450_bezDKM_rect",
   "parentLayerId": -1,
   "defaultVisibility": true,
   "subLayerIds": null,
   "minScale": 0,
   "maxScale": 0,
   "type": "Raster Layer",
   "supportsDynamicLegends": true
  }
 ],
 "tables": [],
 "spatialReference": {
  "wkid": 102067,
  "latestWkid": 5514,
  "xyTolerance": 0.001,
  "zTolerance": 0.001,
  "mTolerance": 0.001,
  "falseX": -33699800,
  "falseY": -33699800,
  "xyUnits": 1.3363876424698351E8,
  "falseZ": -100000,
  "zUnits": 10000,
  "falseM": -100000,
  "mUnits": 10000
 },
 "singleFusedMapCache": true,
 "tileInfo": {
  "rows": 256,
  "cols": 256,
  "dpi": 96,
  "format": "PNG32",
  "compressionQuality": 0,
  "origin": {
   "x": -33699800,
   "y": 33699800
  },
  "spatialReference": {
   "wkid": 102067,
   "latestWkid": 5514,
   "xyTolerance": 0.001,
   "zTolerance": 0.001,
   "mTolerance": 0.001,
   "falseX": -33699800,
   "falseY": -33699800,
   "xyUnits": 10000,
   "falseZ": -100000,
   "zUnits": 10000,
   "falseM": -100000,
   "mUnits": 10000
  },
  "lods": [
   {
    "level": 0,
    "resolution": 64.00812801625604,
    "scale": 241920
   },
   {
    "level": 1,
    "resolution": 32.00406400812802,
    "scale": 120960
   },
   {
    "level": 2,
    "resolution": 16.00203200406401,
    "scale": 60480
   },
   {
    "level": 3,
    "resolution": 8.001016002032005,
    "scale": 30240
   },
   {
    "level": 4,
    "resolution": 4.000508001016002,
    "scale": 15120
   },
   {
    "level": 5,
    "resolution": 2.000254000508001,
    "scale": 7560
   },
   {
    "level": 6,
    "resolution": 1.0001270002540006,
    "scale": 3780
   },
   {
    "level": 7,
    "resolution": 0.5000635001270003,
    "scale": 1890
   }
  ]
 },
 "storageInfo": {
  "storageFormat": "esriMapCacheStorageModeCompactV2",
  "packetSize": 128
 },
 "initialExtent": {
  "xmin": -774928.5267058095,
  "ymin": -1186820.7368406155,
  "xmax": -764287.6195359983,
  "ymax": -1177641.5791047667,
  "spatialReference": {
   "wkid": 102067,
   "latestWkid": 5514,
   "xyTolerance": 0.001,
   "zTolerance": 0.001,
   "mTolerance": 0.001,
   "falseX": -33699800,
   "falseY": -33699800,
   "xyUnits": 1.3363876424698351E8,
   "falseZ": -100000,
   "zUnits": 10000,
   "falseM": -100000,
   "mUnits": 10000
  }
 },
 "fullExtent": {
  "xmin": -772820.473120904,
  "ymin": -1186396.357972691,
  "xmax": -766395.6731209039,
  "ymax": -1178065.9579726912,
  "spatialReference": {
   "wkid": 102067,
   "latestWkid": 5514,
   "xyTolerance": 0.001,
   "zTolerance": 0.001,
   "mTolerance": 0.001,
   "falseX": -33699800,
   "falseY": -33699800,
   "xyUnits": 1.3363876424698351E8,
   "falseZ": -100000,
   "zUnits": 10000,
   "falseM": -100000,
   "mUnits": 10000
  }
 },
 "datesInUnknownTimezone": false,
 "minScale": 241920,
 "maxScale": 1890,
 "minLOD": 0,
 "maxLOD": 7,
 "units": "esriMeters",
 "supportedImageFormatTypes": "PNG32,PNG24,PNG,JPG,DIB,TIFF,EMF,PS,PDF,GIF,SVG,SVGZ,BMP",
 "documentInfo": {
  "Title": "upo_ck.aprx",
  "Author": "",
  "Comments": "",
  "Subject": "",
  "Category": "",
  "Version": "3.5.0",
  "AntialiasingMode": "Fast",
  "TextAntialiasingMode": "Force",
  "Keywords": "upd"
 },
 "supportsQueryDomains": true,
 "capabilities": "Map,Query,Data,TileMap",
 "supportedQueryFormats": "JSON, geoJSON, PBF",
 "exportTilesAllowed": false,
 "referenceScale": 0.0,
 "supportsDatumTransformation": true,
 "archivingInfo": {
  "supportsHistoricMoment": false
 },
 "supportsClipping": true,
 "supportsSpatialFilter": true,
 "supportsTimeRelation": true,
 "supportsQueryDataElements": true,
 "mapUnits": {
  "uwkid": 9001
 },
 "maxSelectionCount": 2000,
 "maxRecordCount": 2000,
 "maxImageHeight": 4096,
 "maxImageWidth": 4096,
 "supportedExtensions": "WMSServer",
 "serviceItemId": "5f98bb41234747788a9a31525243c0c0"
}
