{
 "currentVersion": 11.5,
 "cimVersion": "3.5.0",
 "serviceDescription": "",
 "mapName": "Layers1",
 "description": "",
 "copyrightText": "",
 "supportsDynamicLayers": true,
 "layers": [
  {
   "id": 0,
   "name": "Layers",
   "parentLayerId": -1,
   "defaultVisibility": true,
   "subLayerIds": null,
   "minScale": 0,
   "maxScale": 0,
   "type": "Raster Layer",
   "supportsDynamicLegends": true
  }
 ],
 "tables": [],
 "spatialReference": {
  "wkid": 102067,
  "latestWkid": 5514,
  "xyTolerance": 0.001,
  "zTolerance": 0.001,
  "mTolerance": 0.001,
  "falseX": -33699800,
  "falseY": -33699800,
  "xyUnits": 1.3363876424698351E8,
  "falseZ": -100000,
  "zUnits": 10000,
  "falseM": -100000,
  "mUnits": 10000
 },
 "singleFusedMapCache": true,
 "tileInfo": {
  "rows": 256,
  "cols": 256,
  "dpi": 96,
  "format": "JPEG",
  "compressionQuality": 75,
  "origin": {
   "x": -33699800,
   "y": 33699800
  },
  "spatialReference": {
   "wkid": 102067,
   "latestWkid": 5514,
   "xyTolerance": 0.001,
   "zTolerance": 0.001,
   "mTolerance": 0.001,
   "falseX": -33699800,
   "falseY": -33699800,
   "xyUnits": 1.3363876424698351E8,
   "falseZ": -100000,
   "zUnits": 10000,
   "falseM": -100000,
   "mUnits": 10000
  },
  "lods": [
   {
    "level": 0,
    "resolution": 1024.1300482600966,
    "scale": 3870720
   },
   {
    "level": 1,
    "resolution": 512.0650241300483,
    "scale": 1935360
   },
   {
    "level": 2,
    "resolution": 256.03251206502415,
    "scale": 967680
   },
   {
    "level": 3,
    "resolution": 128.01625603251208,
    "scale": 483840
   },
   {
    "level": 4,
    "resolution": 64.00812801625604,
    "scale": 241920
   },
   {
    "level": 5,
    "resolution": 32.00406400812802,
    "scale": 120960
   },
   {
    "level": 6,
    "resolution": 16.00203200406401,
    "scale": 60480
   },
   {
    "level": 7,
    "resolution": 8.001016002032005,
    "scale": 30240
   },
   {
    "level": 8,
    "resolution": 4.000508001016002,
    "scale": 15120
   },
   {
    "level": 9,
    "resolution": 2.000254000508001,
    "scale": 7560
   },
   {
    "level": 10,
    "resolution": 1.0001270002540006,
    "scale": 3780
   },
   {
    "level": 11,
    "resolution": 0.5000635001270003,
    "scale": 1890
   },
   {
    "level": 12,
    "resolution": 0.25003175006350015,
    "scale": 945
   },
   {
    "level": 13,
    "resolution": 0.12501587503175007,
    "scale": 472.5
   }
  ]
 },
 "storageInfo": {
  "storageFormat": "esriMapCacheStorageModeCompactV2",
  "packetSize": 128
 },
 "initialExtent": {
  "xmin": -769816.9693897977,
  "ymin": -1182759.0520465786,
  "xmax": -769261.1473003279,
  "ymax": -1182182.3431144983,
  "spatialReference": {
   "wkid": 102067,
   "latestWkid": 5514,
   "xyTolerance": 0.001,
   "zTolerance": 0.001,
   "mTolerance": 0.001,
   "falseX": -33699800,
   "falseY": -33699800,
   "xyUnits": 1.3363876424698351E8,
   "falseZ": -100000,
   "zUnits": 10000,
   "falseM": -100000,
   "mUnits": 10000
  }
 },
 "fullExtent": {
  "xmin": -773124.9599155411,
  "ymin": -1185999.9428498892,
  "xmax": -767499.9956343626,
  "ymax": -1178000.0519907326,
  "spatialReference": {
   "wkid": 102067,
   "latestWkid": 5514,
   "xyTolerance": 0.001,
   "zTolerance": 0.001,
   "mTolerance": 0.001,
   "falseX": -33699800,
   "falseY": -33699800,
   "xyUnits": 1.3363876424698351E8,
   "falseZ": -100000,
   "zUnits": 10000,
   "falseM": -100000,
   "mUnits": 10000
  }
 },
 "datesInUnknownTimezone": false,
 "minScale": 60480,
 "maxScale": 3780,
 "units": "esriMeters",
 "supportedImageFormatTypes": "PNG32,PNG24,PNG,JPG,DIB,TIFF,EMF,PS,PDF,GIF,SVG,SVGZ,BMP",
 "documentInfo": {
  "Title": "C:\\Users\\tmapy\\Documents\\ArcGIS\\Projects\\MyProject3\\MyProject3.aprx",
  "Author": "",
  "Comments": "",
  "Subject": "",
  "Category": "",
  "Version": "3.1.0",
  "AntialiasingMode": "Fast",
  "TextAntialiasingMode": "Force",
  "Keywords": ""
 },
 "supportsQueryDomains": true,
 "capabilities": "Map,Query,Data",
 "supportedQueryFormats": "JSON, geoJSON, PBF",
 "exportTilesAllowed": false,
 "referenceScale": 0.0,
 "supportsDatumTransformation": true,
 "archivingInfo": {
  "supportsHistoricMoment": false
 },
 "supportsClipping": true,
 "supportsSpatialFilter": true,
 "supportsTimeRelation": true,
 "supportsQueryDataElements": true,
 "mapUnits": {
  "uwkid": 9001
 },
 "maxSelectionCount": 2000,
 "maxRecordCount": 2000,
 "maxImageHeight": 4096,
 "maxImageWidth": 4096,
 "supportedExtensions": "",
 "serviceItemId": "bbcc1a2f8bcf4c55b8352f7c9d3d7484"
}
